BEGIN:VCALENDAR
PRODID:-//dvv-bw.de//dvv.Portalplattform//DE
VERSION:2.0
METHOD:PUBLISH
BEGIN:VEVENT
DTSTART:20261204T230000Z
DTEND:20261205T230000Z
DTSTAMP:20260424T021137Z
RRULE;FREQ=DAILY;UNTIL=20261206T225959Z
UID:8252938-8253036-1796425200000
SUMMARY:Weihnachtsmarkt, Gemeinde Weisenbach
DESCRIPTION:Weihnachtsmarkt, Gemeinde Weisenbach
CLASS:PUBLIC
X-ALT-DESC;FMTTYPE=text/html:Weihnachtsmarkt, Gemeinde Weisenbach
END:VEVENT
BEGIN:VEVENT
DTSTART:20261205T230000Z
DTEND:20261205T230000Z
DTSTAMP:20260424T021137Z
UID:8252939-8253037-1796511600000
SUMMARY:Gedenkgottesdienst, Kolpingsfamilie
DESCRIPTION:Gedenkgottesdienst, Kolpingsfamilie
CLASS:PUBLIC
X-ALT-DESC;FMTTYPE=text/html:Gedenkgottesdienst, Kolpingsfamilie
END:VEVENT
BEGIN:VEVENT
DTSTART:20261210T180000Z
DTEND:20261210T200000Z
DTSTAMP:20260424T021137Z
UID:8647922-8647819-1796857200000
SUMMARY:Gemeinderatssitzung
LOCATION:Rathaus Weisenbach\, Hauptstraße 3\, 76599 Weisenbach
DESCRIPTION:Gemeinderatssitzung
CLASS:PUBLIC
X-ALT-DESC;FMTTYPE=text/html:Gemeinderatssitzung
END:VEVENT
BEGIN:VEVENT
DTSTART:20261210T230000Z
DTEND:20261210T230000Z
DTSTAMP:20260424T021137Z
UID:8252940-8253038-1796943600000
SUMMARY:Nikolausparty, Kolpingsfamilie
DESCRIPTION:Nikolausparty, Kolpingsfamilie
CLASS:PUBLIC
X-ALT-DESC;FMTTYPE=text/html:Nikolausparty, Kolpingsfamilie
END:VEVENT
BEGIN:VEVENT
DTSTART:20261219T230000Z
DTEND:20261219T230000Z
DTSTAMP:20260424T021137Z
UID:8823764-8823661-1797721200000
SUMMARY:Weihnachtsfeier NaturFreunde Weisenbach
DESCRIPTION:Weihnachtsfeier NaturFreunde Weisenbach
CLASS:PUBLIC
X-ALT-DESC;FMTTYPE=text/html:Weihnachtsfeier NaturFreunde Weisenbach
END:VEVENT
BEGIN:VEVENT
DTSTART:20261222T230000Z
DTEND:20261222T230000Z
DTSTAMP:20260424T021137Z
UID:8252941-8253039-1797980400000
SUMMARY:Einspielen der Weihnacht, Musikverein Weisenbach & Musikkapelle Au
DESCRIPTION:Einspielen der Weihnacht, Musikverein Weisenbach & Musikkapelle Au
CLASS:PUBLIC
X-ALT-DESC;FMTTYPE=text/html:Einspielen der Weihnacht, Musikverein Weisenbach & Musikkapelle Au
END:VEVENT
BEGIN:VEVENT
DTSTART:20261222T230000Z
DTEND:20261222T230000Z
DTSTAMP:20260424T021137Z
UID:8252942-8253040-1797980400000
SUMMARY:Weihnachtsmarkt, Wendelins Eventschmiede
DESCRIPTION:Weihnachtsmarkt, Wendelins Eventschmiede
CLASS:PUBLIC
X-ALT-DESC;FMTTYPE=text/html:Weihnachtsmarkt, Wendelins Eventschmiede
END:VEVENT
BEGIN:VEVENT
DTSTART:20261230T230000Z
DTEND:20261230T230000Z
DTSTAMP:20260424T021137Z
UID:8252943-8253041-1798671600000
SUMMARY:Brezelwürfeln\, Freizeitclub Weisenbach
DESCRIPTION:Brezelwürfeln\, Freizeitclub Weisenbach
CLASS:PUBLIC
X-ALT-DESC;FMTTYPE=text/html:Brezelwürfeln\, Freizeitclub Weisenbach
END:VEVENT
END:VCALENDAR
