BEGIN:VCALENDAR
PRODID:-//dvv-bw.de//dvv.Portalplattform//DE
VERSION:2.0
METHOD:PUBLISH
BEGIN:VEVENT
DTSTART:20261106T230000Z
DTEND:20261106T230000Z
DTSTAMP:20260424T015827Z
UID:8252928-8253026-1794006000000
SUMMARY:Heiße & Bier-Feschd\, Wendelins Eventschmiede
DESCRIPTION:Heiße & Bier-Feschd\, Wendelins Eventschmiede
CLASS:PUBLIC
X-ALT-DESC;FMTTYPE=text/html:Heiße & Bier-Feschd\, Wendelins Eventschmiede
END:VEVENT
BEGIN:VEVENT
DTSTART:20261107T230000Z
DTEND:20261107T230000Z
DTSTAMP:20260424T015827Z
UID:8252929-8253027-1794092400000
SUMMARY:Seniorenfeier, Gemeinde Weisenbach
DESCRIPTION:Seniorenfeier, Gemeinde Weisenbach
CLASS:PUBLIC
X-ALT-DESC;FMTTYPE=text/html:Seniorenfeier, Gemeinde Weisenbach
END:VEVENT
BEGIN:VEVENT
DTSTART:20261112T230000Z
DTEND:20261112T230000Z
DTSTAMP:20260424T015827Z
UID:8252930-8253028-1794524400000
SUMMARY:Fasenteröffnung\, KG Hohle Eiche
DESCRIPTION:Fasenteröffnung\, KG Hohle Eiche
CLASS:PUBLIC
X-ALT-DESC;FMTTYPE=text/html:Fasenteröffnung\, KG Hohle Eiche
END:VEVENT
BEGIN:VEVENT
DTSTART:20261114T230000Z
DTEND:20261114T230000Z
DTSTAMP:20260424T015827Z
UID:8252931-8253029-1794697200000
SUMMARY:Schlachtfest, Naturfreunde Weisenbach
DESCRIPTION:Schlachtfest, Naturfreunde Weisenbach
CLASS:PUBLIC
X-ALT-DESC;FMTTYPE=text/html:Schlachtfest, Naturfreunde Weisenbach
END:VEVENT
BEGIN:VEVENT
DTSTART:20261114T230000Z
DTEND:20261114T230000Z
DTSTAMP:20260424T015827Z
UID:8252932-8253030-1794697200000
SUMMARY:Volkstrauertag (Harmonika Spielring)
DESCRIPTION:Volkstrauertag (Harmonika Spielring)
CLASS:PUBLIC
X-ALT-DESC;FMTTYPE=text/html:Volkstrauertag (Harmonika Spielring)
END:VEVENT
BEGIN:VEVENT
DTSTART:20261119T180000Z
DTEND:20261119T200000Z
DTSTAMP:20260424T015827Z
UID:8647921-8647818-1795042800000
SUMMARY:Gemeinderatssitzung
LOCATION:Rathaus Weisenbach\, Hauptstraße 3\, 76599 Weisenbach
DESCRIPTION:Gemeinderatssitzung
CLASS:PUBLIC
X-ALT-DESC;FMTTYPE=text/html:Gemeinderatssitzung
END:VEVENT
BEGIN:VEVENT
DTSTART:20261120T230000Z
DTEND:20261120T230000Z
DTSTAMP:20260424T015827Z
UID:8252933-8253031-1795215600000
SUMMARY:Obstbaumschnittkurs mit Herbstausklang, OGV Weisenbach
DESCRIPTION:Obstbaumschnittkurs mit Herbstausklang, OGV Weisenbach
CLASS:PUBLIC
X-ALT-DESC;FMTTYPE=text/html:Obstbaumschnittkurs mit Herbstausklang, OGV Weisenbach
END:VEVENT
BEGIN:VEVENT
DTSTART:20261126T230000Z
DTEND:20261128T230000Z
DTSTAMP:20260424T015827Z
RRULE;FREQ=DAILY;UNTIL=20261129T225959Z
UID:8823763-8823660-1795734000000
SUMMARY:Hüttenaufenthalt Musikkapelle Au
DESCRIPTION:Hüttenaufenthalt Musikkapelle Au
CLASS:PUBLIC
X-ALT-DESC;FMTTYPE=text/html:Hüttenaufenthalt Musikkapelle Au
END:VEVENT
BEGIN:VEVENT
DTSTART:20261127T230000Z
DTEND:20261127T230000Z
DTSTAMP:20260424T015827Z
UID:8252934-8253032-1795820400000
SUMMARY:Adventsgestecke selbst machen, OGV Au
DESCRIPTION:Adventsgestecke selbst machen, OGV Au
CLASS:PUBLIC
X-ALT-DESC;FMTTYPE=text/html:Adventsgestecke selbst machen, OGV Au
END:VEVENT
BEGIN:VEVENT
DTSTART:20261127T230000Z
DTEND:20261127T230000Z
DTSTAMP:20260424T015827Z
UID:8252935-8253033-1795820400000
SUMMARY:Generalversammlung Kolpingsfamilie
DESCRIPTION:Generalversammlung Kolpingsfamilie
CLASS:PUBLIC
X-ALT-DESC;FMTTYPE=text/html:Generalversammlung Kolpingsfamilie
END:VEVENT
BEGIN:VEVENT
DTSTART:20261128T230000Z
DTEND:20261128T230000Z
DTSTAMP:20260424T015827Z
UID:8252936-8253034-1795906800000
SUMMARY:Tag der offenen Tür\, Modellbahnclub
DESCRIPTION:Tag der offenen Tür\, Modellbahnclub
CLASS:PUBLIC
X-ALT-DESC;FMTTYPE=text/html:Tag der offenen Tür\, Modellbahnclub
END:VEVENT
END:VCALENDAR
