BEGIN:VCALENDAR
PRODID:-//dvv-bw.de//dvv.Portalplattform//DE
VERSION:2.0
METHOD:PUBLISH
BEGIN:VEVENT
DTSTART:20261003T220000Z
DTEND:20261003T220000Z
DTSTAMP:20260424T020825Z
UID:8429574-8429467-1791064800000
SUMMARY:Wendelins Eventschmiede Gockler Feschd
DESCRIPTION:Wendelins Eventschmiede Gockler Feschd
CLASS:PUBLIC
X-ALT-DESC;FMTTYPE=text/html:Wendelins Eventschmiede Gockler Feschd
END:VEVENT
BEGIN:VEVENT
DTSTART:20261005T220000Z
DTEND:20261005T220000Z
DTSTAMP:20260424T020825Z
UID:8823762-8823659-1791237600000
SUMMARY:Auer ARGE Sitzung
DESCRIPTION:Auer ARGE Sitzung
CLASS:PUBLIC
X-ALT-DESC;FMTTYPE=text/html:Auer ARGE Sitzung
END:VEVENT
BEGIN:VEVENT
DTSTART:20261010T220000Z
DTEND:20261010T220000Z
DTSTAMP:20260424T020825Z
UID:8252923-8253021-1791669600000
SUMMARY:Oktoberfest, TV Weisenbach
DESCRIPTION:Oktoberfest, TV Weisenbach
CLASS:PUBLIC
X-ALT-DESC;FMTTYPE=text/html:Oktoberfest, TV Weisenbach
END:VEVENT
BEGIN:VEVENT
DTSTART:20261013T220000Z
DTEND:20261013T220000Z
DTSTAMP:20260424T020825Z
UID:8252924-8253022-1791928800000
SUMMARY:ARGE Herbstsitzung
DESCRIPTION:ARGE Herbstsitzung
CLASS:PUBLIC
X-ALT-DESC;FMTTYPE=text/html:ARGE Herbstsitzung
END:VEVENT
BEGIN:VEVENT
DTSTART:20261015T170000Z
DTEND:20261015T190000Z
DTSTAMP:20260424T020825Z
UID:8647920-8647817-1792015200000
SUMMARY:Gemeinderratssitzung
LOCATION:Rathaus Weisenbach\, Hauptstraße 3\, 76599 Weisenbach
DESCRIPTION:Gemeinderratssitzung
CLASS:PUBLIC
X-ALT-DESC;FMTTYPE=text/html:Gemeinderratssitzung
END:VEVENT
BEGIN:VEVENT
DTSTART:20261016T220000Z
DTEND:20261016T220000Z
DTSTAMP:20260424T020825Z
UID:8252925-8253023-1792188000000
SUMMARY:Brettelsmarkt, Skiabteilung TV Weisenbach
DESCRIPTION:Brettelsmarkt, Skiabteilung TV Weisenbach
CLASS:PUBLIC
X-ALT-DESC;FMTTYPE=text/html:Brettelsmarkt, Skiabteilung TV Weisenbach
END:VEVENT
BEGIN:VEVENT
DTSTART:20261016T220000Z
DTEND:20261016T220000Z
DTSTAMP:20260424T020825Z
UID:8627661-8253035-1792188000000
SUMMARY:Konzert Krone Au, Gesangsverein Au
DESCRIPTION:Konzert Krone Au, Gesangsverein Au
CLASS:PUBLIC
X-ALT-DESC;FMTTYPE=text/html:Konzert Krone Au, Gesangsverein Au
END:VEVENT
BEGIN:VEVENT
DTSTART:20261017T220000Z
DTEND:20261017T220000Z
DTSTAMP:20260424T020825Z
UID:8252926-8253024-1792274400000
SUMMARY:Patrozinium Weisenbach
DESCRIPTION:Patrozinium Weisenbach
CLASS:PUBLIC
X-ALT-DESC;FMTTYPE=text/html:Patrozinium Weisenbach
END:VEVENT
BEGIN:VEVENT
DTSTART:20261023T220000Z
DTEND:20261023T220000Z
DTSTAMP:20260424T020825Z
UID:8252927-8253025-1792792800000
SUMMARY:Hauptübung Feuerwehr
DESCRIPTION:Hauptübung Feuerwehr
CLASS:PUBLIC
X-ALT-DESC;FMTTYPE=text/html:Hauptübung Feuerwehr
END:VEVENT
END:VCALENDAR
