BEGIN:VCALENDAR
PRODID:-//dvv-bw.de//dvv.Portalplattform//DE
VERSION:2.0
METHOD:PUBLISH
BEGIN:VEVENT
DTSTART:20260904T220000Z
DTEND:20260904T220000Z
DTSTAMP:20260424T020254Z
UID:8823760-8253014-1788559200000
SUMMARY:Sommerparty Kolpingsfamilie Weisenbach
DESCRIPTION:Sommerparty Kolpingsfamilie Weisenbach
CLASS:PUBLIC
X-ALT-DESC;FMTTYPE=text/html:Sommerparty Kolpingsfamilie Weisenbach
END:VEVENT
BEGIN:VEVENT
DTSTART:20260912T220000Z
DTEND:20260912T220000Z
DTSTAMP:20260424T020254Z
UID:8252919-8253017-1789250400000
SUMMARY:Kelterhock, Heimatpflegeverein Weisenbach
DESCRIPTION:Kelterhock, Heimatpflegeverein Weisenbach
CLASS:PUBLIC
X-ALT-DESC;FMTTYPE=text/html:Kelterhock, Heimatpflegeverein Weisenbach
END:VEVENT
BEGIN:VEVENT
DTSTART:20260917T170000Z
DTEND:20260917T190000Z
DTSTAMP:20260424T020254Z
UID:8647919-8647816-1789596000000
SUMMARY:Gemeinderatssitzung
LOCATION:Rathaus Weisenbach\, Hauptstraße 3\, 76599 Weisenbach
DESCRIPTION:Gemeinderatssitzung
CLASS:PUBLIC
X-ALT-DESC;FMTTYPE=text/html:Gemeinderatssitzung
END:VEVENT
BEGIN:VEVENT
DTSTART:20260917T220000Z
DTEND:20260917T220000Z
DTSTAMP:20260424T020254Z
UID:8252920-8253018-1789682400000
SUMMARY:Einschulungsfeier, Festhalle Weisenbach
DESCRIPTION:Einschulungsfeier, Festhalle Weisenbach
CLASS:PUBLIC
X-ALT-DESC;FMTTYPE=text/html:Einschulungsfeier, Festhalle Weisenbach
END:VEVENT
BEGIN:VEVENT
DTSTART:20260922T220000Z
DTEND:20260925T220000Z
DTSTAMP:20260424T020254Z
RRULE;FREQ=DAILY;UNTIL=20260926T215959Z
UID:8627658-8627558-1790114400000
SUMMARY:Vereinspokalschiessen Schützenverein
DESCRIPTION:Vereinspokalschiessen Schützenverein
CLASS:PUBLIC
X-ALT-DESC;FMTTYPE=text/html:Vereinspokalschiessen Schützenverein
END:VEVENT
BEGIN:VEVENT
DTSTART:20260925T220000Z
DTEND:20260925T220000Z
DTSTAMP:20260424T020254Z
UID:8252921-8253019-1790373600000
SUMMARY:Altmetallsammlung Weisenbach & Au, Musikverein Weisenbach & Musikkapelle Au
DESCRIPTION:Altmetallsammlung Weisenbach & Au, Musikverein Weisenbach & Musikkapelle Au
CLASS:PUBLIC
X-ALT-DESC;FMTTYPE=text/html:Altmetallsammlung Weisenbach & Au, Musikverein Weisenbach & Musikkapelle Au
END:VEVENT
BEGIN:VEVENT
DTSTART:20260926T220000Z
DTEND:20260926T220000Z
DTSTAMP:20260424T020254Z
UID:8252922-8253020-1790460000000
SUMMARY:Jubiläumsständchen\, Musikkapelle Au
DESCRIPTION:Jubiläumsständchen\, Musikkapelle Au
CLASS:PUBLIC
X-ALT-DESC;FMTTYPE=text/html:Jubiläumsständchen\, Musikkapelle Au
END:VEVENT
END:VCALENDAR
