BEGIN:VCALENDAR
PRODID:-//dvv-bw.de//dvv.Portalplattform//DE
VERSION:2.0
METHOD:PUBLISH
BEGIN:VEVENT
DTSTART:20260603T220000Z
DTEND:20260603T220000Z
DTSTAMP:20260424T020101Z
UID:8823767-8823664-1780524000000
SUMMARY:Stabhochsprung-Meeting und Kugelstoßen Asse
LOCATION:Sportplatz Am Sennel\, Gaisbachstraße 59\, 76599 Weisenbach
DESCRIPTION:Stabhochsprung-Meeting und Kugelstoßen Asse
CLASS:PUBLIC
X-ALT-DESC;FMTTYPE=text/html:Stabhochsprung-Meeting und Kugelstoßen Asse
END:VEVENT
BEGIN:VEVENT
DTSTART:20260603T220000Z
DTEND:20260606T220000Z
DTSTAMP:20260424T020101Z
RRULE;FREQ=DAILY;UNTIL=20260607T215959Z
UID:8429568-8429464-1780524000000
SUMMARY:Motorradausfhart Spielvereinigung Weisenbach
DESCRIPTION:Motorradausfhart Spielvereinigung Weisenbach
CLASS:PUBLIC
X-ALT-DESC;FMTTYPE=text/html:Motorradausfhart Spielvereinigung Weisenbach
END:VEVENT
BEGIN:VEVENT
DTSTART:20260605T220000Z
DTEND:20260605T220000Z
DTSTAMP:20260424T020101Z
UID:8823754-8253002-1780696800000
SUMMARY:Hock OGV Weisenbach
DESCRIPTION:Hock OGV Weisenbach
CLASS:PUBLIC
X-ALT-DESC;FMTTYPE=text/html:Hock OGV Weisenbach
END:VEVENT
BEGIN:VEVENT
DTSTART:20260606T220000Z
DTEND:20260606T220000Z
DTSTAMP:20260424T020101Z
UID:8823768-8823665-1780783200000
SUMMARY:Springen mit Musik und Schülermehrkämpfe Sportplatz Weisenbach LAG Obere Murg
LOCATION:Sporthalle Weisenbach\, Gaisbachstraße 59\, 76599 Weisenbach
DESCRIPTION:Springen mit Musik und Schülermehrkämpfe Sportplatz Weisenbach LAG Obere Murg
CLASS:PUBLIC
X-ALT-DESC;FMTTYPE=text/html:Springen mit Musik und Schülermehrkämpfe Sportplatz Weisenbach LAG Obere Murg
END:VEVENT
BEGIN:VEVENT
DTSTART:20260610T220000Z
DTEND:20260718T220000Z
DTSTAMP:20260424T020101Z
RRULE;FREQ=DAILY;UNTIL=20260719T215959Z
UID:8823756-8823655-1781128800000
SUMMARY:Fußball Weltmeisterschaft
DESCRIPTION:Fußball Weltmeisterschaft
CLASS:PUBLIC
X-ALT-DESC;FMTTYPE=text/html:Fußball Weltmeisterschaft
END:VEVENT
BEGIN:VEVENT
DTSTART:20260618T170000Z
DTEND:20260618T190000Z
DTSTAMP:20260424T020101Z
UID:8647917-8647814-1781733600000
SUMMARY:Gemeinderatssitzung
LOCATION:Rathaus Weisenbach\, Hauptstraße 3\, 76599 Weisenbach
DESCRIPTION:Gemeinderatssitzung
CLASS:PUBLIC
X-ALT-DESC;FMTTYPE=text/html:Gemeinderatssitzung
END:VEVENT
BEGIN:VEVENT
DTSTART:20260617T220000Z
DTEND:20260717T220000Z
DTSTAMP:20260424T020101Z
RRULE;FREQ=DAILY;UNTIL=20260718T215959Z
UID:8823755-8823654-1781733600000
SUMMARY:Stadtradeln
DESCRIPTION:Stadtradeln
CLASS:PUBLIC
X-ALT-DESC;FMTTYPE=text/html:Stadtradeln
END:VEVENT
BEGIN:VEVENT
DTSTART:20260619T140000Z
DTEND:20260619T170000Z
DTSTAMP:20260424T020101Z
UID:8887402-8887302-1781820000000
SUMMARY:Jugend Forum
LOCATION:Kolpinghaus Weisenbach\, Auf der Grüb\, 76599 Weisenbach
DESCRIPTION:Alle Jugendlichen ab 12 Jahren sind herzlich dazu eingeladen\, mit Bürgermeister Daniel Retsch über das zu reden\, was ihnen wichtig ist und ihre Ideen zu teilen.\nEs gibt nicht nur einen Fahrdienst ab der Sporthalle Weisenbach\, sondern auch einen gemeinsamen Abschluss mit Pizza!\nNutzt die Gelegenheit - und sagt was Sache ist!\nWir freuen uns sehr auf euch!!
CLASS:PUBLIC
X-ALT-DESC;FMTTYPE=text/html:Alle Jugendlichen ab 12 Jahren sind herzlich dazu eingeladen\, mit Bürgermeister Daniel Retsch über das zu reden\, was ihnen wichtig ist und ihre Ideen zu teilen.<br>Es gibt nicht nur einen Fahrdienst ab der Sporthalle Weisenbach\, sondern auch einen gemeinsamen Abschluss mit Pizza!<br>Nutzt die Gelegenheit - und sagt was Sache ist!<br>Wir freuen uns sehr auf euch!!
END:VEVENT
BEGIN:VEVENT
DTSTART:20260619T220000Z
DTEND:20260620T220000Z
DTSTAMP:20260424T020101Z
RRULE;FREQ=DAILY;UNTIL=20260621T215959Z
UID:8131100-7566362-1781906400000
SUMMARY:80 Jahre Naturfreunde, Bezirkssonnenwende
DESCRIPTION:80 Jahre Naturfreunde, Bezirkssonnenwende
CLASS:PUBLIC
X-ALT-DESC;FMTTYPE=text/html:80 Jahre Naturfreunde, Bezirkssonnenwende
END:VEVENT
BEGIN:VEVENT
DTSTART:20260622T220000Z
DTEND:20260622T220000Z
DTSTAMP:20260424T020101Z
UID:8418329-8253003-1782165600000
SUMMARY:Dreikampfabnahme Sportplatz TV Au & Weisenbach
DESCRIPTION:Dreikampfabnahme Sportplatz TV Au & Weisenbach
CLASS:PUBLIC
X-ALT-DESC;FMTTYPE=text/html:Dreikampfabnahme Sportplatz TV Au & Weisenbach
END:VEVENT
BEGIN:VEVENT
DTSTART:20260624T220000Z
DTEND:20260624T220000Z
DTSTAMP:20260424T020101Z
UID:8823757-8823656-1782338400000
SUMMARY:Generalversammlung Freizeitclub Weisenbach
DESCRIPTION:Generalversammlung Freizeitclub Weisenbach
CLASS:PUBLIC
X-ALT-DESC;FMTTYPE=text/html:Generalversammlung Freizeitclub Weisenbach
END:VEVENT
BEGIN:VEVENT
DTSTART:20260626T220000Z
DTEND:20260626T220000Z
DTSTAMP:20260424T020101Z
UID:8252906-8253004-1782511200000
SUMMARY:Blech Forest BlechrAUsch Musikkapelle Au (Festhalle Weisenbach)
DESCRIPTION:Blech Forest BlechrAUsch Musikkapelle Au (Festhalle Weisenbach)
CLASS:PUBLIC
X-ALT-DESC;FMTTYPE=text/html:Blech Forest BlechrAUsch Musikkapelle Au (Festhalle Weisenbach)
END:VEVENT
BEGIN:VEVENT
DTSTART:20260627T220000Z
DTEND:20260627T220000Z
DTSTAMP:20260424T020101Z
UID:8429569-8429465-1782597600000
SUMMARY:Mannschaftsturnier örtlicher Vereine zum 75-jährigen\, Sporthalle Weisenbach\, Tischtennisverein Weisenbach
DESCRIPTION:Mannschaftsturnier örtlicher Vereine zum 75-jährigen\, Sporthalle Weisenbach\, Tischtennisverein Weisenbach
CLASS:PUBLIC
X-ALT-DESC;FMTTYPE=text/html:Mannschaftsturnier örtlicher Vereine zum 75-jährigen\, Sporthalle Weisenbach\, Tischtennisverein Weisenbach
END:VEVENT
BEGIN:VEVENT
DTSTART:20260629T220000Z
DTEND:20260629T220000Z
DTSTAMP:20260424T020101Z
UID:8627660-8627560-1782770400000
SUMMARY:Ausweichtermin Dreikampfabnahme Sportplatz TV Au + Weisenbach
LOCATION:Sportplatz Au
DESCRIPTION:Ausweichtermin Dreikampfabnahme Sportplatz TV Au + Weisenbach
CLASS:PUBLIC
X-ALT-DESC;FMTTYPE=text/html:Ausweichtermin Dreikampfabnahme Sportplatz TV Au + Weisenbach
END:VEVENT
END:VCALENDAR
