BEGIN:VCALENDAR
PRODID:-//dvv-bw.de//dvv.Portalplattform//DE
VERSION:2.0
METHOD:PUBLISH
BEGIN:VEVENT
DTSTART:20260624T220000Z
DTEND:20260624T220000Z
DTSTAMP:20260423T213546Z
UID:8823757-8823656-1782338400000
SUMMARY:Generalversammlung Freizeitclub Weisenbach
DESCRIPTION:Generalversammlung Freizeitclub Weisenbach
CLASS:PUBLIC
X-ALT-DESC;FMTTYPE=text/html:Generalversammlung Freizeitclub Weisenbach
END:VEVENT
END:VCALENDAR
