BEGIN:VCALENDAR
PRODID:-//dvv-bw.de//dvv.Portalplattform//DE
VERSION:2.0
METHOD:PUBLISH
BEGIN:VEVENT
DTSTART:20260429T220000Z
DTEND:20260501T220000Z
DTSTAMP:20260424T020147Z
RRULE;FREQ=DAILY;UNTIL=20260502T215959Z
UID:8248999-8248897-1777500000000
SUMMARY:Maifest Freizeitclub Weisenbach
DESCRIPTION:Maifest Freizeitclub Weisenbach
CLASS:PUBLIC
X-ALT-DESC;FMTTYPE=text/html:Maifest Freizeitclub Weisenbach
END:VEVENT
BEGIN:VEVENT
DTSTART:20260507T220000Z
DTEND:20260507T220000Z
DTSTAMP:20260424T020147Z
UID:8252900-8248898-1778191200000
SUMMARY:Crash-Kurs "Cyber Security", Kolpingsfamilie Weisenbach
DESCRIPTION:Crash-Kurs "Cyber Security", Kolpingsfamilie Weisenbach
CLASS:PUBLIC
X-ALT-DESC;FMTTYPE=text/html:Crash-Kurs "Cyber Security", Kolpingsfamilie Weisenbach
END:VEVENT
BEGIN:VEVENT
DTSTART:20260511T220000Z
DTEND:20260511T220000Z
DTSTAMP:20260424T020147Z
UID:8258060-8257956-1778536800000
SUMMARY:Jahreshauptversammlung Kath. Frauengemeinschaft
LOCATION:Kath. Gemeindehaus Weisenbach, Belzerweg 2, 76599 Weisenbach
DESCRIPTION:Jahreshauptversammlung Kath. Frauengemeinschaft
CLASS:PUBLIC
X-ALT-DESC;FMTTYPE=text/html:Jahreshauptversammlung Kath. Frauengemeinschaft
END:VEVENT
BEGIN:VEVENT
DTSTART:20260512T220000Z
DTEND:20260512T220000Z
DTSTAMP:20260424T020147Z
UID:8823751-8823651-1778623200000
SUMMARY:Einweihung neue Grillstelle Kolpingfamilie Weisenbach
LOCATION:Kolpinghaus Weisenbach\, Auf der Grüb\, 76599 Weisenbach
DESCRIPTION:Einweihung neue Grillstelle Kolpingfamilie Weisenbach
CLASS:PUBLIC
X-ALT-DESC;FMTTYPE=text/html:Einweihung neue Grillstelle Kolpingfamilie Weisenbach
END:VEVENT
BEGIN:VEVENT
DTSTART:20260515T220000Z
DTEND:20260517T220000Z
DTSTAMP:20260424T020147Z
RRULE;FREQ=DAILY;UNTIL=20260518T215959Z
UID:8203150-8203050-1778882400000
SUMMARY:Tag der offenen Tür Freiwillige Feuerwehr
LOCATION:Feuerwehr Gerätehaus Au\, Alte Kreisstraße 1\, 76599 Weisenbach
DESCRIPTION:Tag der offenen Tür Freiwillige Feuerwehr
CLASS:PUBLIC
X-ALT-DESC;FMTTYPE=text/html:Tag der offenen Tür Freiwillige Feuerwehr
END:VEVENT
BEGIN:VEVENT
DTSTART:20260516T220000Z
DTEND:20260516T220000Z
DTSTAMP:20260424T020147Z
UID:8627659-8627559-1778968800000
SUMMARY:Siegerehrung Vereinsmeisterschaften und Königsfeier
DESCRIPTION:Siegerehrung Vereinsmeisterschaften und Königsfeier
CLASS:PUBLIC
X-ALT-DESC;FMTTYPE=text/html:Siegerehrung Vereinsmeisterschaften und Königsfeier
END:VEVENT
BEGIN:VEVENT
DTSTART:20260516T220000Z
DTEND:20260516T220000Z
DTSTAMP:20260424T020147Z
UID:8252902-8253000-1778968800000
SUMMARY:Patrozinium Kirche Au
DESCRIPTION:Patrozinium Kirche Au
CLASS:PUBLIC
X-ALT-DESC;FMTTYPE=text/html:Patrozinium Kirche Au
END:VEVENT
BEGIN:VEVENT
DTSTART:20260519T220000Z
DTEND:20260519T220000Z
DTSTAMP:20260424T020147Z
UID:8880400-8253001-1779228000000
SUMMARY:Stubenabend Heimatpflegeverein Weisenbach
DESCRIPTION:Stubenabend Heimatpflegeverein Weisenbach
CLASS:PUBLIC
X-ALT-DESC;FMTTYPE=text/html:Stubenabend Heimatpflegeverein Weisenbach
END:VEVENT
BEGIN:VEVENT
DTSTART:20260520T220000Z
DTEND:20260520T220000Z
DTSTAMP:20260424T020147Z
UID:8647916-8647813-1779314400000
SUMMARY:Gemeinderatssitzung
LOCATION:Rathaus Weisenbach\, Hauptstraße 3\, 76599 Weisenbach
DESCRIPTION:Gemeinderatssitzung
CLASS:PUBLIC
X-ALT-DESC;FMTTYPE=text/html:Gemeinderatssitzung
END:VEVENT
BEGIN:VEVENT
DTSTART:20260521T220000Z
DTEND:20260521T220000Z
DTSTAMP:20260424T020147Z
UID:8823752-8823652-1779400800000
SUMMARY:Generalversammlung Schwimmbadverein Weisenbach
LOCATION:Latschigbad, Latschigbachtal, 76599 Weisenbach
DESCRIPTION:Generalversammlung Schwimmbadverein Weisenbach
CLASS:PUBLIC
X-ALT-DESC;FMTTYPE=text/html:Generalversammlung Schwimmbadverein Weisenbach
END:VEVENT
BEGIN:VEVENT
DTSTART:20260522T220000Z
DTEND:20260522T220000Z
DTSTAMP:20260424T020147Z
UID:8823753-8823653-1779487200000
SUMMARY:Eröffnung des Schwimmbades
LOCATION:Latschigbad, Latschigbachtal, 76599 Weisenbach
DESCRIPTION:Eröffnung des Schwimmbades
CLASS:PUBLIC
X-ALT-DESC;FMTTYPE=text/html:Eröffnung des Schwimmbades
END:VEVENT
END:VCALENDAR
