BEGIN:VCALENDAR
PRODID:-//dvv-bw.de//dvv.Portalplattform//DE
VERSION:2.0
METHOD:PUBLISH
BEGIN:VEVENT
DTSTART:20260619T220000Z
DTEND:20260620T220000Z
DTSTAMP:20260423T162938Z
RRULE;FREQ=DAILY;UNTIL=20260621T215959Z
UID:8131100-7566362-1781906400000
SUMMARY:80 Jahre Naturfreunde, Bezirkssonnenwende
DESCRIPTION:80 Jahre Naturfreunde, Bezirkssonnenwende
CLASS:PUBLIC
X-ALT-DESC;FMTTYPE=text/html:80 Jahre Naturfreunde, Bezirkssonnenwende
END:VEVENT
BEGIN:VEVENT
DTSTART:20270603T220000Z
DTEND:20270606T220000Z
DTSTAMP:20260423T162938Z
RRULE;FREQ=DAILY;UNTIL=20270607T215959Z
UID:8203151-8203051-1812060000000
SUMMARY:100 Jahre Freiwillige Feuerwehr Weisenbach
LOCATION:Feuerwehr Gerätehaus Au\, Alte Kreisstraße 1\, 76599 Weisenbach
DESCRIPTION:100 Jahre Freiwillige Feuerwehr Weisenbach
CLASS:PUBLIC
X-ALT-DESC;FMTTYPE=text/html:100 Jahre Freiwillige Feuerwehr Weisenbach
END:VEVENT
BEGIN:VEVENT
DTSTART:20270625T220000Z
DTEND:20270626T220000Z
DTSTAMP:20260423T162938Z
RRULE;FREQ=DAILY;UNTIL=20270627T215959Z
UID:8823765-8823662-1813960800000
SUMMARY:70 Jahre Fanfarenzug Weisenbach
DESCRIPTION:70 Jahre Fanfarenzug Weisenbach
CLASS:PUBLIC
X-ALT-DESC;FMTTYPE=text/html:70 Jahre Fanfarenzug Weisenbach
END:VEVENT
BEGIN:VEVENT
DTSTART:20271022T220000Z
DTEND:20271022T220000Z
DTSTAMP:20260423T162938Z
UID:8203152-8203052-1824242400000
SUMMARY:Ehrungsabend 100 Jahre Freiwillige Feuerwehr Weisenbach
LOCATION:Gasthaus Krone\, Jakob-Bleyer-Straße 21\, 76599 Weisenbach
DESCRIPTION:Ehrungsabend 100 Jahre Freiwillige Feuerwehr Weisenbach
CLASS:PUBLIC
X-ALT-DESC;FMTTYPE=text/html:Ehrungsabend 100 Jahre Freiwillige Feuerwehr Weisenbach
END:VEVENT
END:VCALENDAR
