BEGIN:VCALENDAR
PRODID:-//dvv-bw.de//dvv.Portalplattform//DE
VERSION:2.0
METHOD:PUBLISH
BEGIN:VEVENT
DTSTART:20260423T170000Z
DTEND:20260423T190000Z
DTSTAMP:20260423T170000Z
UID:8647915-8647812-1776895200000
SUMMARY:Gemeinderatssitzung
LOCATION:Rathaus Weisenbach\, Hauptstraße 3\, 76599 Weisenbach
DESCRIPTION:Gemeinderatssitzung
CLASS:PUBLIC
X-ALT-DESC;FMTTYPE=text/html:Gemeinderatssitzung
END:VEVENT
BEGIN:VEVENT
DTSTART:20260520T220000Z
DTEND:20260520T220000Z
DTSTAMP:20260423T163103Z
UID:8647916-8647813-1779314400000
SUMMARY:Gemeinderatssitzung
LOCATION:Rathaus Weisenbach\, Hauptstraße 3\, 76599 Weisenbach
DESCRIPTION:Gemeinderatssitzung
CLASS:PUBLIC
X-ALT-DESC;FMTTYPE=text/html:Gemeinderatssitzung
END:VEVENT
BEGIN:VEVENT
DTSTART:20260618T170000Z
DTEND:20260618T190000Z
DTSTAMP:20260423T163103Z
UID:8647917-8647814-1781733600000
SUMMARY:Gemeinderatssitzung
LOCATION:Rathaus Weisenbach\, Hauptstraße 3\, 76599 Weisenbach
DESCRIPTION:Gemeinderatssitzung
CLASS:PUBLIC
X-ALT-DESC;FMTTYPE=text/html:Gemeinderatssitzung
END:VEVENT
BEGIN:VEVENT
DTSTART:20260617T220000Z
DTEND:20260717T220000Z
DTSTAMP:20260423T163103Z
RRULE;FREQ=DAILY;UNTIL=20260718T215959Z
UID:8823755-8823654-1781733600000
SUMMARY:Stadtradeln
DESCRIPTION:Stadtradeln
CLASS:PUBLIC
X-ALT-DESC;FMTTYPE=text/html:Stadtradeln
END:VEVENT
BEGIN:VEVENT
DTSTART:20260723T170000Z
DTEND:20260723T190000Z
DTSTAMP:20260423T163103Z
UID:8647918-8647815-1784757600000
SUMMARY:Gemeinderatssitzung
LOCATION:Rathaus Weisenbach\, Hauptstraße 3\, 76599 Weisenbach
DESCRIPTION:Gemeinderatssitzung
CLASS:PUBLIC
X-ALT-DESC;FMTTYPE=text/html:Gemeinderatssitzung
END:VEVENT
BEGIN:VEVENT
DTSTART:20260917T170000Z
DTEND:20260917T190000Z
DTSTAMP:20260423T163103Z
UID:8647919-8647816-1789596000000
SUMMARY:Gemeinderatssitzung
LOCATION:Rathaus Weisenbach\, Hauptstraße 3\, 76599 Weisenbach
DESCRIPTION:Gemeinderatssitzung
CLASS:PUBLIC
X-ALT-DESC;FMTTYPE=text/html:Gemeinderatssitzung
END:VEVENT
BEGIN:VEVENT
DTSTART:20261015T170000Z
DTEND:20261015T190000Z
DTSTAMP:20260423T163103Z
UID:8647920-8647817-1792015200000
SUMMARY:Gemeinderratssitzung
LOCATION:Rathaus Weisenbach\, Hauptstraße 3\, 76599 Weisenbach
DESCRIPTION:Gemeinderratssitzung
CLASS:PUBLIC
X-ALT-DESC;FMTTYPE=text/html:Gemeinderratssitzung
END:VEVENT
BEGIN:VEVENT
DTSTART:20261119T180000Z
DTEND:20261119T200000Z
DTSTAMP:20260423T163103Z
UID:8647921-8647818-1795042800000
SUMMARY:Gemeinderatssitzung
LOCATION:Rathaus Weisenbach\, Hauptstraße 3\, 76599 Weisenbach
DESCRIPTION:Gemeinderatssitzung
CLASS:PUBLIC
X-ALT-DESC;FMTTYPE=text/html:Gemeinderatssitzung
END:VEVENT
BEGIN:VEVENT
DTSTART:20261210T180000Z
DTEND:20261210T200000Z
DTSTAMP:20260423T163103Z
UID:8647922-8647819-1796857200000
SUMMARY:Gemeinderatssitzung
LOCATION:Rathaus Weisenbach\, Hauptstraße 3\, 76599 Weisenbach
DESCRIPTION:Gemeinderatssitzung
CLASS:PUBLIC
X-ALT-DESC;FMTTYPE=text/html:Gemeinderatssitzung
END:VEVENT
END:VCALENDAR
